BEGIN:VCALENDAR
VERSION:2.0
PRODID:-//Visit Ghana - ECPv6.15.20//NONSGML v1.0//EN
CALSCALE:GREGORIAN
METHOD:PUBLISH
X-WR-CALNAME:Visit Ghana
X-ORIGINAL-URL:https://visitghana.com
X-WR-CALDESC:Events for Visit Ghana
REFRESH-INTERVAL;VALUE=DURATION:PT1H
X-Robots-Tag:noindex
X-PUBLISHED-TTL:PT1H
BEGIN:VTIMEZONE
TZID:UTC
BEGIN:STANDARD
TZOFFSETFROM:+0000
TZOFFSETTO:+0000
TZNAME:UTC
DTSTART:20250101T000000
END:STANDARD
END:VTIMEZONE
BEGIN:VEVENT
DTSTART;TZID=UTC:20260313T080000
DTEND;TZID=UTC:20260313T170000
DTSTAMP:20260421T234558
CREATED:20260306T122437Z
LAST-MODIFIED:20260306T122555Z
UID:10000035-1773388800-1773421200@visitghana.com
SUMMARY:TASTE 69 @ 69 (Flagship GTA Event)
DESCRIPTION:Under the auspices of the Ministry of Tourism\, Culture and Creative Arts\, The Ghana Tourism Authority is excited to announce TASTE 69@69\, a food festival with the aim to celebrate and promote Ghana’s rich culinary to position Ghana as a prime food tourism destination. \nThe spectacular event will showcase sixty-eight traditional and contemporary Ghanaian dishes\, highlight Ghana’s rich agricultural produce and create business opportunities for food entrepreneurs. \nThe food festival which is a day’s event will be held at the Kwame Nkrumah Memorial Park\, Accra on 13th March\, 2025.
URL:https://visitghana.com/event/taste-69-69-flagship-gta-event/
ATTACH;FMTTYPE=image/webp:https://visitghana.com/wp-content/uploads/2026/03/Feast-Ghana-Kumasi_27.jpg-scaled_11zon.webp
END:VEVENT
END:VCALENDAR