BEGIN:VCALENDAR
VERSION:2.0
PRODID:-//Visit Ghana - ECPv6.15.20//NONSGML v1.0//EN
CALSCALE:GREGORIAN
METHOD:PUBLISH
X-ORIGINAL-URL:https://visitghana.com
X-WR-CALDESC:Events for Visit Ghana
REFRESH-INTERVAL;VALUE=DURATION:PT1H
X-Robots-Tag:noindex
X-PUBLISHED-TTL:PT1H
BEGIN:VTIMEZONE
TZID:UTC
BEGIN:STANDARD
TZOFFSETFROM:+0000
TZOFFSETTO:+0000
TZNAME:UTC
DTSTART:20240101T000000
END:STANDARD
END:VTIMEZONE
BEGIN:VEVENT
DTSTART;TZID=UTC:20251205T080000
DTEND;TZID=UTC:20260103T180000
DTSTAMP:20260421T082926
CREATED:20260304T140338Z
LAST-MODIFIED:20260304T140338Z
UID:10000017-1764921600-1767463200@visitghana.com
SUMMARY:Despite Automobile Museum Presents: The Live Music Experience.
DESCRIPTION:Step into a full-day celebration of rhythm\, motion\, and design as the Despite Automobile Museum Presents: The Live Music Experience. Enjoy live performances\, stunning automobiles\, and an atmosphere that bridges vintage beauty with contemporary sound — a one-of-a-kind fusion of culture\, music\, and innovation. \nContact: despiteautomuseum@gmail.com\, 0556262626
URL:https://visitghana.com/event/despite-automobile-museum-presents-the-live-music-experience/
LOCATION:DESPITE AUTOMOBILE MUSEUM
ATTACH;FMTTYPE=image/png:https://visitghana.com/wp-content/uploads/2026/03/cropped-december-in-gh-white.png
END:VEVENT
END:VCALENDAR